BEGIN:VCALENDAR
VERSION:2.0
PRODID:-//wp-events-plugin.com//7.2.3.1//EN
TZID:Europe/Warsaw
X-WR-TIMEZONE:Europe/Warsaw
BEGIN:VEVENT
UID:168@prudnik.pl
DTSTART;TZID=Europe/Warsaw;VALUE=DATE:20250101
DTEND;TZID=Europe/Warsaw;VALUE=DATE:20250201
DTSTAMP:20250107T161548Z
URL:https://prudnik.pl/wydarzenia/styczen-2025-z-kultura/
SUMMARY:STYCZEŃ (2025) z KULTURĄ
DESCRIPTION:Prudnicki Ośrodek Kultury przedstawia propozycje wydarzeń kul
 turalnych na styczeń 2025.\n\nKONTAKT:\nPrudnicki Ośrodek Kultury\ntel.:
  +48 77 436 33 96\nmail: program@pok-prudnik.pl
ATTACH;FMTTYPE=image/jpeg:https://prudnik.pl/wp-content/uploads/2025/01/St
 yczen-2025-z-Kultura_www-scaled.jpg
CATEGORIES:Imprezy,Koncert,projekcja filmu,projekcja
 filmu,Spektakl,Spotkanie autorskie,Warsztaty,Wydarzenie kulturalne,Wykład
 / prelekcja,Wystawa
LOCATION:Prudnik\, Prudnicki Ośrodek Kultury\, ul. Kościuszki 1A\, Prudni
 k\, Polska\, 48-200\, Poland
X-APPLE-STRUCTURED-LOCATION;VALUE=URI;X-ADDRESS=ul. Kościuszki 1A\, Prudni
 k\, Polska\, 48-200\, Poland;X-APPLE-RADIUS=100;X-TITLE=Prudnik\, Prudnick
 i Ośrodek Kultury:geo:0,0
END:VEVENT
BEGIN:VTIMEZONE
TZID:Europe/Warsaw
X-LIC-LOCATION:Europe/Warsaw
BEGIN:STANDARD
DTSTART:20241027T020000
TZOFFSETFROM:+0200
TZOFFSETTO:+0100
TZNAME:CET
END:STANDARD
END:VTIMEZONE
END:VCALENDAR