BEGIN:VCALENDAR
VERSION:2.0
PRODID:-//wp-events-plugin.com//7.2.3.1//EN
TZID:Europe/Warsaw
X-WR-TIMEZONE:Europe/Warsaw
BEGIN:VEVENT
UID:5@prudnik.pl
DTSTART;TZID=Europe/Warsaw:20230209T170000
DTEND;TZID=Europe/Warsaw:20230209T180000
DTSTAMP:20230204T100943Z
URL:https://prudnik.pl/wydarzenia/spotkanie-zalozycielskie-grupy-teatralne
 j/
SUMMARY:Spotkanie założycielskie grupy teatralnej
DESCRIPTION:Zapraszamy wszystkich tych\, którzy chcą odkrywać swoje tale
 nty\, łącząc je we wspólne\, pozytywne działanie\, przy realizacji sp
 ektakli teatralnych. Prowadzenie: Zbigniew Kułagowski - aktor\, reżyser.
CATEGORIES:Wydarzenie kulturalne
LOCATION:Prudnik\, Prudnicki Ośrodek Kultury\, ul. Kościuszki 1A\, Prudni
 k\, Polska\, 48-200\, Poland
X-APPLE-STRUCTURED-LOCATION;VALUE=URI;X-ADDRESS=ul. Kościuszki 1A\, Prudni
 k\, Polska\, 48-200\, Poland;X-APPLE-RADIUS=100;X-TITLE=Prudnik\, Prudnick
 i Ośrodek Kultury:geo:0,0
END:VEVENT
BEGIN:VTIMEZONE
TZID:Europe/Warsaw
X-LIC-LOCATION:Europe/Warsaw
BEGIN:STANDARD
DTSTART:20221030T020000
TZOFFSETFROM:+0200
TZOFFSETTO:+0100
TZNAME:CET
END:STANDARD
END:VTIMEZONE
END:VCALENDAR