BEGIN:VCALENDAR
VERSION:2.0
PRODID:-//wp-events-plugin.com//7.2.3.1//EN
TZID:Europe/Warsaw
X-WR-TIMEZONE:Europe/Warsaw
BEGIN:VEVENT
UID:170@prudnik.pl
DTSTART;TZID=Europe/Warsaw:20250115T180000
DTEND;TZID=Europe/Warsaw:20250115T200000
DTSTAMP:20250108T094727Z
URL:https://prudnik.pl/wydarzenia/spotkanie-oplatkowe-ludzi-kultury-2/
SUMMARY:SPOTKANIE OPŁATKOWE LUDZI KULTURY
DESCRIPTION:Prudnicki Ośrodek Kultury zaprasza na\n\nSPOTKANIE OPŁATKOWE 
 LUDZI KULTURY\n\n• 15 stycznia 2025 /środa/\n• godz. 18:00\n• sala 
 reprezentacyjna Prudnickiego Ośrodka Kultury\n\nWSTĘP WOLNY\n\n• w ram
 ach spotkania zapraszamy na koncert Duetu Euforia (Maja Łukasik i Arkadiu
 sz Pucek).\n\n&nbsp\;
ATTACH;FMTTYPE=image/jpeg:https://prudnik.pl/wp-content/uploads/2025/01/sp
 otkanie-oplatkowe-ludzi-kultury-2-www-scaled.jpg
CATEGORIES:Koncert,Wydarzenie kulturalne
LOCATION:Prudnik\, Prudnicki Ośrodek Kultury\, ul. Kościuszki 1A\, Prudni
 k\, Polska\, 48-200\, Poland
X-APPLE-STRUCTURED-LOCATION;VALUE=URI;X-ADDRESS=ul. Kościuszki 1A\, Prudni
 k\, Polska\, 48-200\, Poland;X-APPLE-RADIUS=100;X-TITLE=Prudnik\, Prudnick
 i Ośrodek Kultury:geo:0,0
END:VEVENT
BEGIN:VTIMEZONE
TZID:Europe/Warsaw
X-LIC-LOCATION:Europe/Warsaw
BEGIN:STANDARD
DTSTART:20241027T020000
TZOFFSETFROM:+0200
TZOFFSETTO:+0100
TZNAME:CET
END:STANDARD
END:VTIMEZONE
END:VCALENDAR