BEGIN:VCALENDAR
VERSION:2.0
PRODID:-//wp-events-plugin.com//7.2.3.1//EN
TZID:Europe/Warsaw
X-WR-TIMEZONE:Europe/Warsaw
BEGIN:VEVENT
UID:15@prudnik.pl
DTSTART;TZID=Europe/Warsaw;VALUE=DATE:20230805
DTEND;TZID=Europe/Warsaw;VALUE=DATE:20230807
DTSTAMP:20230724T070741Z
URL:https://prudnik.pl/wydarzenia/samoobrona-kobiet-zaufaj-wojsku/
SUMMARY:Samoobrona Kobiet - Zaufaj Wojsku
DESCRIPTION:Zapraszamy na bezpłatne zajęcia " Samoobrona Kobiet\, Zaufaj 
 Wojsku" z wojskowymi instruktorami.\n\n&nbsp\;\n\nZajęcia odbędą się w
  Parku Miejskim w Prudniku w dniach 5-6 sierpnia.\n\n&nbsp\;\n\nW programi
 e:\n\n 	trening podstaw samoobrony\n 	rozmowa o zdrowym odżywianiu\n 	zas
 ady udzielania pierwszej pomocy\n 	wojskowa grochówka\n\nZapisy pod nr te
 l. 519 709 631
ATTACH;FMTTYPE=image/jpeg:https://prudnik.pl/wp-content/uploads/2023/07/pn
 g_20230718_104644_0000.png
CATEGORIES:Imprezy sportowe
LOCATION:Park Miejski\, Parkowa 1\, Prudnik \, Polska\, 48-200 \, Poland
X-APPLE-STRUCTURED-LOCATION;VALUE=URI;X-ADDRESS=Parkowa 1\, Prudnik \, Pols
 ka\, 48-200 \, Poland;X-APPLE-RADIUS=100;X-TITLE=Park Miejski:geo:0,0
END:VEVENT
BEGIN:VTIMEZONE
TZID:Europe/Warsaw
X-LIC-LOCATION:Europe/Warsaw
BEGIN:DAYLIGHT
DTSTART:20230326T030000
TZOFFSETFROM:+0100
TZOFFSETTO:+0200
TZNAME:CEST
END:DAYLIGHT
END:VTIMEZONE
END:VCALENDAR