BEGIN:VCALENDAR
VERSION:2.0
PRODID:-//wp-events-plugin.com//7.2.3.1//EN
TZID:Europe/Warsaw
X-WR-TIMEZONE:Europe/Warsaw
BEGIN:VEVENT
UID:27@prudnik.pl
DTSTART;TZID=Europe/Warsaw:20230928T180000
DTEND;TZID=Europe/Warsaw:20230928T193000
DTSTAMP:20230920T104554Z
URL:https://prudnik.pl/wydarzenia/made-in-prudnik-stolarstwo/
SUMMARY:Made in Prudnik. Stolarstwo
DESCRIPTION:Zapraszamy na ostatnią odsłonę z cyklu " Made in Prudnik" - 
 serii pogadanek poświęconych prudnickiemu przemysłowi\, który wyłoni
 ł się z poszczególnych rzemiosł. Tym razem zajmiemy się historią meb
 larstwa - gałęzi przemysłowej najprawdopodobniej najmniej\, jeśli w og
 óle\, znanej\, przynajmniej młodszej części mieszkańców. Przemysł d
 rzewny na ziemi prudnickiej w latach 70-tych obejmował ponad 20 zakładó
 w\, z czego główną rolę odgrywały dwa: Zakład Meblarski Spółdzieln
 i im. 22 Lipca oraz Zakład Mebli Tapicerowanych. Tego ostatniego wielolet
 nim pracownikiem był Stanisław Oberc\, który przybliży nam powojenną 
 historię branży meblarskiej oraz opowie o swojej pracy i o funkcjonowani
 u zakładu.\n\nCzwartek 28 września 2023 r.\, godz. 18:00\n\nSiedziba Cec
 hu Rzemieślników i Przedsiębiorców w Prudniku przy ul. Łukowej 1\n\nW
 stęp wolny!\n\nOrganizatorzy:\n\n 	Cech Rzemieślników i Przedsiębiorc
 ów w Prudniku\n 	Muzeum Ziemi Prudnickiej\n
ATTACH;FMTTYPE=image/jpeg:https://prudnik.pl/wp-content/uploads/2023/09/m-
 Made-in-Prudnik-stolarstwo-final-scaled.jpg
CATEGORIES:Wydarzenie kulturalne,Wykład / prelekcja
LOCATION:Siedziba Cechu Rzemieślników i Przedsiębiorców w Prudniku\, ul
 . Łukowa 1\, Prudnik\, 48-200\, Poland
X-APPLE-STRUCTURED-LOCATION;VALUE=URI;X-ADDRESS=ul. Łukowa 1\, Prudnik\, 4
 8-200\, Poland;X-APPLE-RADIUS=100;X-TITLE=Siedziba Cechu Rzemieślników i
  Przedsiębiorców w Prudniku:geo:0,0
END:VEVENT
BEGIN:VTIMEZONE
TZID:Europe/Warsaw
X-LIC-LOCATION:Europe/Warsaw
BEGIN:DAYLIGHT
DTSTART:20230326T030000
TZOFFSETFROM:+0100
TZOFFSETTO:+0200
TZNAME:CEST
END:DAYLIGHT
END:VTIMEZONE
END:VCALENDAR