BEGIN:VCALENDAR
VERSION:2.0
PRODID:-//wp-events-plugin.com//7.2.3.1//EN
TZID:Europe/Warsaw
X-WR-TIMEZONE:Europe/Warsaw
BEGIN:VEVENT
UID:19@prudnik.pl
DTSTART;TZID=Europe/Warsaw:20230831T100000
DTEND;TZID=Europe/Warsaw:20230831T113000
DTSTAMP:20230816T084153Z
URL:https://prudnik.pl/wydarzenia/kreatywny-miszmasz/
SUMMARY:Kreatywny miszmasz
DESCRIPTION:Zapraszamy na otwarte zajęcia plastyczne inspirowane kolażami
  Hanny Bakuły pt. „Kreatywny miszmasz”.\n\nWarsztaty skierowane są d
 o dzieci\, młodzieży i dorosłych.\n\nProwadzenie: Ewa Giemza\, Zbigniew
  Cwynar\n\n&nbsp\;\n\nZapisy i szczegółowe informacje: 77 406 80 60\n\nL
 iczba miejsc ograniczona. Decyduje kolejność zapisów.\n\nDzieci w wieku
  do trzynastego roku życia powinny przebywać w Muzeum pod opieką osób 
 dorosłych. Obsługa Muzeum nie ponosi odpowiedzialności za dzieci pozost
 awione bez opieki.
ATTACH;FMTTYPE=image/jpeg:https://prudnik.pl/wp-content/uploads/2023/08/Wa
 rsztaty-31.08.2023-CTT.jpg
CATEGORIES:Warsztaty
LOCATION:Galeria Sztuki Hanny Bakuły „No Ba!”\, ul. Rynek 2 – wejśc
 ie od ul. Kościelnej\, Prudnik\, Poland
X-APPLE-STRUCTURED-LOCATION;VALUE=URI;X-ADDRESS=ul. Rynek 2 – wejście od
  ul. Kościelnej\, Prudnik\, Poland;X-APPLE-RADIUS=100;X-TITLE=Galeria Szt
 uki Hanny Bakuły „No Ba!”:geo:0,0
END:VEVENT
BEGIN:VTIMEZONE
TZID:Europe/Warsaw
X-LIC-LOCATION:Europe/Warsaw
BEGIN:DAYLIGHT
DTSTART:20230326T030000
TZOFFSETFROM:+0100
TZOFFSETTO:+0200
TZNAME:CEST
END:DAYLIGHT
END:VTIMEZONE
END:VCALENDAR