BEGIN:VCALENDAR
VERSION:2.0
PRODID:-//wp-events-plugin.com//7.2.3.1//EN
TZID:Europe/Warsaw
X-WR-TIMEZONE:Europe/Warsaw
BEGIN:VEVENT
UID:171@prudnik.pl
DTSTART;TZID=Europe/Warsaw:20250121T170000
DTEND;TZID=Europe/Warsaw:20250121T190000
DTSTAMP:20250109T100815Z
URL:https://prudnik.pl/wydarzenia/koncert-na-dzien-babci-i-dziadka/
SUMMARY:Koncert na Dzień Babci i Dziadka
DESCRIPTION:Prudnicki Ośrodek Kultury zaprasza na okolicznościowy koncert
 \, w wykonaniu Dziecięcego i Młodzieżowego Studia Piosenki oraz zespoł
 ów tanecznych POK.\n\n• 21 stycznia 2025 /wtorek/\n• godz. 17:00\n•
  sala reprezentacyjna\n\nW programie m.in. piosenki dla Babć i Dziadków 
 oraz świąteczne i zimowe\, a także prezentacje tańca scenicznego i bal
 etu w wykonaniu młodych tancerzy.\n\nWSTĘP WOLNY
ATTACH;FMTTYPE=image/jpeg:https://prudnik.pl/wp-content/uploads/2025/01/pl
 akat-dzien-babci-i-dziadka-2025-www.jpg
CATEGORIES:Koncert,Wydarzenie kulturalne
LOCATION:Prudnik\, Prudnicki Ośrodek Kultury\, ul. Kościuszki 1A\, Prudni
 k\, Polska\, 48-200\, Poland
X-APPLE-STRUCTURED-LOCATION;VALUE=URI;X-ADDRESS=ul. Kościuszki 1A\, Prudni
 k\, Polska\, 48-200\, Poland;X-APPLE-RADIUS=100;X-TITLE=Prudnik\, Prudnick
 i Ośrodek Kultury:geo:0,0
END:VEVENT
BEGIN:VTIMEZONE
TZID:Europe/Warsaw
X-LIC-LOCATION:Europe/Warsaw
BEGIN:STANDARD
DTSTART:20241027T020000
TZOFFSETFROM:+0200
TZOFFSETTO:+0100
TZNAME:CET
END:STANDARD
END:VTIMEZONE
END:VCALENDAR