BEGIN:VCALENDAR
VERSION:2.0
PRODID:-//wp-events-plugin.com//7.2.3.1//EN
TZID:Europe/Warsaw
X-WR-TIMEZONE:Europe/Warsaw
BEGIN:VEVENT
UID:304@prudnik.pl
DTSTART;TZID=Europe/Warsaw:20260424T170000
DTEND;TZID=Europe/Warsaw:20260424T190000
DTSTAMP:20260420T105937Z
URL:https://prudnik.pl/wydarzenia/koncepcja-rewitalizacji-dawnej-lazni-mie
 jskiej-w-prudniku/
SUMMARY:Koncepcja rewitalizacji dawnej łaźni miejskiej w Prudniku
DESCRIPTION:Zapraszamy na prezentację prac studentów Wydziału Architektu
 ry Politechniki Śląskiej pn. „Koncepcja konserwacji\, modernizacji i a
 daptacji obiektu dawnej łaźni miejskiej w Prudniku na nowe funkcje wraz 
 z zagospodarowaniem otoczenia”.\n\nSpośród czternastu opracowanych pro
 jektów wyróżniono pięć prac\, które zostaną zaprezentowane w Centru
 m Tradycji Tkackich.\n\nPrezentacja:\npiątek\, 24 kwietnia 2026 r.\, godz
 . 17.00\nCentrum Tradycji Tkackich\nul. Królowej Jadwigi 23\, Prudnik\n\n
 Opiekę merytoryczną nad grupą studencką sprawowały: prof. dr hab. in
 ż. arch. Magdalena Żmudzińska-Nowak oraz dr inż. arch. Elżbieta Rdzaw
 ska-Augustin.\n\nZbudowana w 1906 roku dawna łaźnia miejska\, dziś pozo
 stająca nieużytkowaną\, stała się przedmiotem refleksji nad możliwo
 ściami przywrócenia jej do życia w nowych funkcjach. Studenckie koncepc
 je prezentują różnorodne wizje adaptacji tego unikatowego obiektu\, kt
 óre — w przypadku zmiany właściciela — mogą stanowić wartościow
 ą inspirację dla jego przyszłego zagospodarowania.\n\nOrganizatorzy kon
 kursu:\nPolitechnika Śląska – Wydział Architektury\, Katedra Teorii\,
  Projektowania i Historii Architektury\nGmina Prudnik\nMuzeum Ziemi Prudni
 ckiej
ATTACH;FMTTYPE=image/jpeg:https://prudnik.pl/wp-content/uploads/2026/04/PL
 AKAT5-scaled.jpg
CATEGORIES:Wystawa
LOCATION:Centrum Tradycji Tkackich\, ul. Królowej Jadwigi 23\, Prudnik\, P
 oland
X-APPLE-STRUCTURED-LOCATION;VALUE=URI;X-ADDRESS=ul. Królowej Jadwigi 23\, 
 Prudnik\, Poland;X-APPLE-RADIUS=100;X-TITLE=Centrum Tradycji Tkackich:geo:
 0,0
END:VEVENT
BEGIN:VTIMEZONE
TZID:Europe/Warsaw
X-LIC-LOCATION:Europe/Warsaw
BEGIN:DAYLIGHT
DTSTART:20260329T030000
TZOFFSETFROM:+0100
TZOFFSETTO:+0200
TZNAME:CEST
END:DAYLIGHT
END:VTIMEZONE
END:VCALENDAR