BEGIN:VCALENDAR
VERSION:2.0
PRODID:-//wp-events-plugin.com//7.2.3.1//EN
TZID:Europe/Warsaw
X-WR-TIMEZONE:Europe/Warsaw
BEGIN:VEVENT
UID:33@prudnik.pl
DTSTART;TZID=Europe/Warsaw:20231013T100000
DTEND;TZID=Europe/Warsaw:20231231T160000
DTSTAMP:20231004T142556Z
URL:https://prudnik.pl/wydarzenia/inna-droga-agata-wilczek-enkaustyka/
SUMMARY:Inną Drogą. Agata Wilczek. Enkaustyka
DESCRIPTION:Zapraszamy na wernisaż malarstwa Agaty Wilczek pt. „Inną Dr
 ogą. Enkaustyka”\nPiątek 13 października 2023 r. godz. 18:00\nGaleria
  Sztuki Hanny Bakuły „NO BA!” przy ul. Rynek 2 w Prudniku (wejście o
 d ul. Kościelnej).\n\nAgata Wilczek\n\nUrodzona w 1965 r. w Prudniku\, z 
 którym związała swoje życie. Studiowała na wydziale Sztuk Wizualnych 
 Uniwersytetu Śląskiego w Cieszynie /1984-1989/\, gdzie w pracowni prof. 
 Jana Hermy obroniła dyplom z rzeźby.\n\nNa co dzień od wielu lat pracuj
 e w Prudnickim Ośrodku Kultury\, zajmuje się pracą pedagogiczną oraz a
 nimacją kulturalną. Organizuje wystawy artystyczne\, plenery malarskie\,
  warsztaty twórcze dla dzieci\, młodzieży i dorosłych. W pracy artysty
 cznej zajmuje się głównie malarstwem\, bliski jest jej również rysune
 k oraz ceramika. Swoje prace pokazywała podczas kilku wystaw indywidualny
 ch i zbiorowych w Polsce oraz Czechach.\n\nWystawa potrwa do 31 grudnia 20
 23 r.
ATTACH;FMTTYPE=image/jpeg:https://prudnik.pl/wp-content/uploads/2023/09/pl
 akat1-scaled.jpg
CATEGORIES:Wystawa
LOCATION:Galeria Sztuki Hanny Bakuły „No Ba!”\, ul. Rynek 2 – wejśc
 ie od ul. Kościelnej\, Prudnik\, Poland
X-APPLE-STRUCTURED-LOCATION;VALUE=URI;X-ADDRESS=ul. Rynek 2 – wejście od
  ul. Kościelnej\, Prudnik\, Poland;X-APPLE-RADIUS=100;X-TITLE=Galeria Szt
 uki Hanny Bakuły „No Ba!”:geo:0,0
END:VEVENT
BEGIN:VTIMEZONE
TZID:Europe/Warsaw
X-LIC-LOCATION:Europe/Warsaw
BEGIN:DAYLIGHT
DTSTART:20230326T030000
TZOFFSETFROM:+0100
TZOFFSETTO:+0200
TZNAME:CEST
END:DAYLIGHT
BEGIN:STANDARD
DTSTART:20231029T020000
TZOFFSETFROM:+0200
TZOFFSETTO:+0100
TZNAME:CET
END:STANDARD
END:VTIMEZONE
END:VCALENDAR