BEGIN:VCALENDAR
VERSION:2.0
PRODID:-//wp-events-plugin.com//7.2.3.1//EN
TZID:Europe/Warsaw
X-WR-TIMEZONE:Europe/Warsaw
BEGIN:VEVENT
UID:177@prudnik.pl
DTSTART;TZID=Europe/Warsaw;VALUE=DATE:20250201
DTEND;TZID=Europe/Warsaw;VALUE=DATE:20250217
DTSTAMP:20250122T162548Z
URL:https://prudnik.pl/wydarzenia/ferie-w-prudniku-2025/
SUMMARY:Ferie w Prudniku 2025
DESCRIPTION:Z początkiem lutego ruszają zimowe "Ferie w Prudniku 2025". W
  programie mnóstwo atrakcji i okazji do świetnej zabawy. Zapraszamy do u
 działu!\n\nNa "Ferie w Prudniku" zapraszają:\n• Prudnicki Ośrodek Kul
 tury\n• Biblioteka Publiczna w Prudniku\n• Kino Diana w Prudniku\n• 
 Agencja Sportu i Promocji w Prudniku\n• Muzeum Ziemi Prudnickiej\n\nSzcz
 egóły na plakatach oraz na stronach www i w mediach społecznościowych 
 poszczególnych instytucji.\n\n[gallery columns="7" link="file" ids="9361\
 ,9362\,9357\,9356\,9359\,9358\,9360"]
ATTACH;FMTTYPE=image/jpeg:https://prudnik.pl/wp-content/uploads/2025/01/Ty
 dzien-1-scaled.jpg
LOCATION:Prudnik\, Prudnik\, Prudnik\, Poland
X-APPLE-STRUCTURED-LOCATION;VALUE=URI;X-ADDRESS=Prudnik\, Prudnik\, Poland;
 X-APPLE-RADIUS=100;X-TITLE=Prudnik:geo:0,0
END:VEVENT
BEGIN:VTIMEZONE
TZID:Europe/Warsaw
X-LIC-LOCATION:Europe/Warsaw
BEGIN:STANDARD
DTSTART:20241027T020000
TZOFFSETFROM:+0200
TZOFFSETTO:+0100
TZNAME:CET
END:STANDARD
END:VTIMEZONE
END:VCALENDAR