BEGIN:VCALENDAR
VERSION:2.0
PRODID:-//wp-events-plugin.com//7.2.3.1//EN
TZID:Europe/Warsaw
X-WR-TIMEZONE:Europe/Warsaw
BEGIN:VEVENT
UID:121@prudnik.pl
DTSTART;TZID=Europe/Warsaw:20240613T170000
DTEND;TZID=Europe/Warsaw:20240613T193000
DTSTAMP:20240609T112030Z
URL:https://prudnik.pl/wydarzenia/dziecko-potrafi-prezentacje-sekcji-tanec
 znych-i-wokalnych-pok/
SUMMARY:„Dziecko potrafi!” - prezentacje sekcji tanecznych i wokalnych 
 POK
DESCRIPTION:Prudnicki Ośrodek Kultury zaprasza na prezentacje działający
 ch w POK sekcji tanecznych i wokalnych:\n\n„Dziecko potrafi!”\n\n• 1
 3 czerwca 2024\n• od godz. 17:00\n• scena plenerowa Prudnickiego Ośro
 dka Kultury\n\nWSTĘP WOLNY
ATTACH;FMTTYPE=image/jpeg:https://prudnik.pl/wp-content/uploads/2024/06/pl
 akat-Dziecko-potrafi-2024-www.jpg
CATEGORIES:Koncert,Wydarzenie kulturalne
LOCATION:Prudnik\, Prudnicki Ośrodek Kultury\, ul. Kościuszki 1A\, Prudni
 k\, Polska\, 48-200\, Poland
X-APPLE-STRUCTURED-LOCATION;VALUE=URI;X-ADDRESS=ul. Kościuszki 1A\, Prudni
 k\, Polska\, 48-200\, Poland;X-APPLE-RADIUS=100;X-TITLE=Prudnik\, Prudnick
 i Ośrodek Kultury:geo:0,0
END:VEVENT
BEGIN:VTIMEZONE
TZID:Europe/Warsaw
X-LIC-LOCATION:Europe/Warsaw
BEGIN:DAYLIGHT
DTSTART:20240331T030000
TZOFFSETFROM:+0100
TZOFFSETTO:+0200
TZNAME:CEST
END:DAYLIGHT
END:VTIMEZONE
END:VCALENDAR