BEGIN:VCALENDAR
VERSION:2.0
PRODID:-//wp-events-plugin.com//7.2.3.1//EN
TZID:Europe/Warsaw
X-WR-TIMEZONE:Europe/Warsaw
BEGIN:VEVENT
UID:17@prudnik.pl
DTSTART;TZID=Europe/Warsaw;VALUE=DATE:20230826
DTEND;TZID=Europe/Warsaw;VALUE=DATE:20230827
DTSTAMP:20230809T064414Z
URL:https://prudnik.pl/wydarzenia/dozynki-gminne-w-czyzowicach/
SUMMARY:DOŻYNKI GMINNE W CZYŻOWICACH
DESCRIPTION:
ATTACH;FMTTYPE=image/jpeg:https://prudnik.pl/wp-content/uploads/2023/08/do
 zynki_gminne_2023.jpg
CATEGORIES:Wydarzenie kulturalne
LOCATION:Czyżowice\, Czyżowice\, Czyżowice\, Poland
X-APPLE-STRUCTURED-LOCATION;VALUE=URI;X-ADDRESS=Czyżowice\, Czyżowice\, P
 oland;X-APPLE-RADIUS=100;X-TITLE=Czyżowice:geo:0,0
END:VEVENT
BEGIN:VTIMEZONE
TZID:Europe/Warsaw
X-LIC-LOCATION:Europe/Warsaw
BEGIN:DAYLIGHT
DTSTART:20230326T030000
TZOFFSETFROM:+0100
TZOFFSETTO:+0200
TZNAME:CEST
END:DAYLIGHT
END:VTIMEZONE
END:VCALENDAR