BEGIN:VCALENDAR
VERSION:2.0
PRODID:-//wp-events-plugin.com//7.2.3.1//EN
TZID:Europe/Warsaw
X-WR-TIMEZONE:Europe/Warsaw
BEGIN:VEVENT
UID:303@prudnik.pl
DTSTART;TZID=Europe/Warsaw:20260427T000000
DTEND;TZID=Europe/Warsaw:20260831T000000
DTSTAMP:20260420T102344Z
URL:https://prudnik.pl/wydarzenia/10930/
SUMMARY:Pamięć przywieziona w walizkach
DESCRIPTION:Zapraszamy na wernisaż wystawy opracowanej przez Instytut Śl
 ąski pt. „Pamięć przywieziona w walizkach”.\nNa ekspozycji zaprezen
 towane zostaną przedmioty oraz pamiątki rodzinne związane z Kresami Wsc
 hodnimi. Na szczególną uwagę zasługują księgi parafialne z parafii P
 rusy koło Lwowa.\nDokumenty i księgi z Prus trafiły do Instytutu Śląs
 kiego dzięki córce Darczyńcy\, która wzięła udział w II edycji konk
 ursu „Opowiem Ci o Kresach”\, organizowanego od 2022 roku.\nEkspozycja
  powstała dzięki hojności Darczyńców\, którzy przekazali swoje pami
 ątki Instytutowi Śląskiemu.\nWernisaż wystawy:poniedziałek\, 27 kwiet
 nia 2026 r.\, godz. 18.00Arsenał – główna siedziba Muzeum Ziemi Prudn
 ickiejul. Bolesława Chrobrego 5\, Prudnik\nWystawa czynna do 31 sierpnia 
 2026 r.
ATTACH;FMTTYPE=image/jpeg:https://prudnik.pl/wp-content/uploads/2026/04/Pl
 akat_kresy-scaled.jpg
CATEGORIES:Wystawa
LOCATION:Muzeum Ziemi Prudnickiej\, ul. Bolesława Chrobrego 5\, Prudnik\, 
 48-200\, Poland
X-APPLE-STRUCTURED-LOCATION;VALUE=URI;X-ADDRESS=ul. Bolesława Chrobrego 5\
 , Prudnik\, 48-200\, Poland;X-APPLE-RADIUS=100;X-TITLE=Muzeum Ziemi Prudni
 ckiej:geo:0,0
END:VEVENT
BEGIN:VTIMEZONE
TZID:Europe/Warsaw
X-LIC-LOCATION:Europe/Warsaw
BEGIN:DAYLIGHT
DTSTART:20260329T030000
TZOFFSETFROM:+0100
TZOFFSETTO:+0200
TZNAME:CEST
END:DAYLIGHT
END:VTIMEZONE
END:VCALENDAR